BEGIN:VCALENDAR
VERSION:2.0
PRODID:SchoolNow
CALSCALE:GREGORIAN
BEGIN:VEVENT
UID:9e49bf48-6578-11ef-b345-0a58a9feac02
DTSTAMP:20250106T194919Z
SUMMARY:CDD Board Meeting - Jan. 2025
LOCATION:SouthShore Regional Library\, located at 15816 Beth Shields Way\, 
 Ruskin\, FL 33573
URL;VALUE=URI:https://www.riverbendwestcdd.com/calendar/6475927/cdd-board-m
 eeting-jan-2025
DTSTART:20250113T230000Z
DTEND:20250114T000000Z
ATTACH;FILENAME=2025-01-13 - Riverbend West - Final Agenda.pdf;FMTTYPE=appl
 ication/pdf:https://campussuite-storage.s3.amazonaws.com/prod/1558915/b385
 8426-eaa0-11e9-a1c4-0a20d2c7fac4/2898688/4c210734-cc67-11ef-9990-0e6eebcc4
 dc5/file/2025-01-13 - Riverbend West - Final Agenda.pdf
END:VEVENT
END:VCALENDAR
