BEGIN:VCALENDAR
VERSION:2.0
PRODID:SchoolNow
CALSCALE:GREGORIAN
BEGIN:VEVENT
UID:dbf9e1ba-6578-11ef-b4da-0ed098b7b915
DTSTAMP:20250617T125226Z
SUMMARY:CDD Board Meeting - Jul. 2025 - Cancelled
LOCATION:SouthShore Regional Library\, located at 15816 Beth Shields Way\, 
 Ruskin\, FL 33573
URL;VALUE=URI:https://www.riverbendwestcdd.com/calendar/6475933/cdd-board-m
 eeting-jul-2025
DTSTART:20250721T220000Z
DTEND:20250721T230000Z
END:VEVENT
END:VCALENDAR
