BEGIN:VCALENDAR
VERSION:2.0
PRODID:SchoolNow
CALSCALE:GREGORIAN
BEGIN:VEVENT
UID:e56e6f22-6578-11ef-bc04-02e5ec6d2975
DTSTAMP:20250820T200741Z
SUMMARY:CDD Board Meeting - Aug. 2025
LOCATION:SouthShore Regional Library\, located at 15816 Beth Shields Way\, 
 Ruskin\, FL 33573
URL;VALUE=URI:https://www.riverbendwestcdd.com/calendar/6475934/cdd-board-m
 eeting-aug-2025
DTSTART:20250818T220000Z
DTEND:20250818T230000Z
ATTACH;FILENAME=2025-08-18 - Riverbend West -Final Agenda.pdf;FMTTYPE=appli
 cation/pdf:https://campussuite-storage.s3.amazonaws.com/prod/1558915/b3858
 426-eaa0-11e9-a1c4-0a20d2c7fac4/2996309/3fcb6a3c-7e01-11f0-b237-0a58a9feac
 02/file/2025-08-18 - Riverbend West -Final Agenda.pdf
END:VEVENT
END:VCALENDAR
