BEGIN:VCALENDAR
VERSION:2.0
PRODID:SchoolNow
CALSCALE:GREGORIAN
BEGIN:VEVENT
UID:ee04b2c2-6578-11ef-86d7-025dfa0c56f3
DTSTAMP:20250908T202411Z
SUMMARY:CDD Board Meeting - Sep. 2025
LOCATION:Riverview Public Library located at 9951 Balm Riverview Rd. Riverv
 iew\, Florida 33569
URL;VALUE=URI:https://www.riverbendwestcdd.com/calendar/6475935/cdd-board-m
 eeting-sep-2025
DTSTART:20250915T220000Z
DTEND:20250915T230000Z
ATTACH;FILENAME=2025-09-15 - Riverbend West - Final Agenda.pdf;FMTTYPE=appl
 ication/pdf:https://campussuite-storage.s3.amazonaws.com/prod/1558915/b385
 8426-eaa0-11e9-a1c4-0a20d2c7fac4/3004682/c30ac808-8cf1-11f0-b517-0a58a9fea
 c02/file/2025-09-15 - Riverbend West - Final Agenda.pdf
END:VEVENT
END:VCALENDAR
