BEGIN:VCALENDAR
VERSION:2.0
PRODID:SchoolNow
CALSCALE:GREGORIAN
BEGIN:VEVENT
UID:8ea4d858-a059-11f0-90af-0a58a9feac02
DTSTAMP:20251014T134953Z
SUMMARY:CANCELED- CDD Board Meeting - Oct. 2025
LOCATION:Riverview Public Library located at 9951 Balm Riverview Rd. Riverv
 iew\, Florida 33569
URL;VALUE=URI:https://www.riverbendwestcdd.com/calendar/8691290/cdd-board-m
 eeting-oct-2025
DTSTART:20251020T220000Z
DTEND:20251020T230000Z
ATTACH;FILENAME=2025-10-20 - Riverbend West - Agenda Page.pdf;FMTTYPE=appli
 cation/pdf:https://campussuite-storage.s3.amazonaws.com/prod/1558915/b3858
 426-eaa0-11e9-a1c4-0a20d2c7fac4/3020775/66b12e98-a87c-11f0-b145-0a58a9feac
 02/file/2025-10-20 - Riverbend West - Agenda Page.pdf
END:VEVENT
END:VCALENDAR
