BEGIN:VCALENDAR
VERSION:2.0
PRODID:SchoolNow
CALSCALE:GREGORIAN
BEGIN:VEVENT
UID:99135238-a059-11f0-aab3-0a58a9feac02
DTSTAMP:20251111T175749Z
SUMMARY:CDD Board Meeting - Nov. 2025
LOCATION:Riverview Public Library located at 9951 Balm Riverview Rd. Riverv
 iew\, Florida 33569
URL;VALUE=URI:https://www.riverbendwestcdd.com/calendar/8691291/cdd-board-m
 eeting-nov-2025
DTSTART:20251117T230000Z
DTEND:20251118T000000Z
ATTACH;FILENAME=2025-11-17 - Riverbend West - Final Agenda.pdf;FMTTYPE=appl
 ication/pdf:https://campussuite-storage.s3.amazonaws.com/prod/1558915/b385
 8426-eaa0-11e9-a1c4-0a20d2c7fac4/3036135/e3092c86-bf27-11f0-81b2-0a58a9fea
 c02/file/2025-11-17 - Riverbend West - Final Agenda.pdf
END:VEVENT
END:VCALENDAR
